BEGIN:VCALENDAR
VERSION:2.0
PRODID:-//dhtmlXScheduler//NONSGML v2.2//EN
X-WR-CALNAME:Wydarzenia
BEGIN:VEVENT
DTSTART:20260312T130000
DTEND:20260505T000000
UID:1
SUMMARY:dr NATALIA ROMANIUK, prof. ADAM ROMANIUK / REZONANS
END:VEVENT
END:VCALENDAR